BEGIN:VCALENDAR
VERSION:2.0
PRODID:-//bcfcapital.com//NONSGML kigkonsult.se iCalcreator 2.30.10//
CALSCALE:GREGORIAN
METHOD:PUBLISH
UID:f09100fd-63b6-48a9-9074-5cfa739b2fdc
X-WR-CALDESC:TriState Minority Supplier Development Council presents the 20
 24 BUSINESS MARKETPLACE\n\nThe workshop agenda will focus on the following
 :\nâ€¢ About BCF â€“ Mission\, CDFI Lender\, Loan Products\nâ€¢ Is Credit the Ri
 ght Choice for You?\nâ€¢ Challenges\nâ€¢ What You Need to Know Before You Appl
 y\nâ€¢ Getting Ready to Apply\nKey Takeaways:\nâ€¢ The purpose of your loan ca
 n impact the amount\, terms\, and interest rates\nâ€¢ Some lenders also plac
 e restrictions on how to use the proceeds\nâ€¢ Prequalifying can help you ge
 t the loan offer for your intended purpose\n\nPresenters: Sahra Halpern an
 d An Phan
X-WR-RELCALID:a60dfc2ade5111ccb37172bef065ffb0
X-WR-TIMEZONE:America/New_York
BEGIN:VTIMEZONE
TZID:America/New_York
BEGIN:STANDARD
TZNAME:EST
DTSTART:20231105T020000
TZOFFSETFROM:-0400
TZOFFSETTO:-0500
RDATE:20241103T020000
RDATE:20251102T020000
END:STANDARD
BEGIN:DAYLIGHT
TZNAME:EDT
DTSTART:20240310T020000
TZOFFSETFROM:-0500
TZOFFSETTO:-0400
RDATE:20250309T020000
END:DAYLIGHT
END:VTIMEZONE
BEGIN:VEVENT
UID:323f3c6f-7422-4f3a-a35a-348a5ec1da5d
DTSTAMP:20260421T123805Z
DESCRIPTION:TriState Minority Supplier Development Council presents the 202
 4 BUSINESS MARKETPLACE\n\nThe workshop agenda will focus on the following:
 \nânâ About BCF â€“ Mission\, CDFI Lender\, Loan Products\nâ€¢ Is Credit the Rig
 ht Choice for You?\nâ€¢ Challenges\nâ€¢ What You Need to Know Before You Apply
 \nânâ Getting Ready to Apply\nKey Takeaways:\nâ€¢ The purpose of your loan can
  impact the amount\, terms\, and interest rates\nâ€¢ Some lenders also place
  restrictions on how to use the proceeds\nâ€¢ Prequalifying can help you get
  the loan offer for your intended purpose\n\nPresenters: Sahra Halpern and
  An Phan
DTSTART;TZID=America/New_York:20240822T100000
DTEND;TZID=America/New_York:20240822T110000
LOCATION:
SUMMARY:Borrowing with Purpose Workshop
END:VEVENT
END:VCALENDAR
