BEGIN:VCALENDAR
VERSION:2.0
PRODID:-//bcfcapital.com//NONSGML kigkonsult.se iCalcreator 2.30.10//
CALSCALE:GREGORIAN
METHOD:PUBLISH
UID:cafb673c-8af3-4ae8-a03a-46ed9a56e16e
X-WR-CALDESC:In this access to capital workshop\, you will learn about diff
 erent loan options and how to evaluate them to find the best fit for your 
 business. Additionally\, you will gain insights into preparing a loan appl
 ication package to approach lenders with purpose and confidence.\n\nRegist
 er Now: https://us02web.zoom.us/webinar/register/WN_Q4mgR-F9RcylwhTNwemzbg
 #/registration
X-WR-RELCALID:163b111348f7d66f38bbb1489e202374
X-WR-TIMEZONE:America/New_York
BEGIN:VTIMEZONE
TZID:America/New_York
BEGIN:STANDARD
TZNAME:EST
DTSTART:20231105T020000
TZOFFSETFROM:-0400
TZOFFSETTO:-0500
RDATE:20241103T020000
RDATE:20251102T020000
END:STANDARD
BEGIN:DAYLIGHT
TZNAME:EDT
DTSTART:20240310T020000
TZOFFSETFROM:-0500
TZOFFSETTO:-0400
RDATE:20250309T020000
RDATE:20260308T020000
END:DAYLIGHT
END:VTIMEZONE
BEGIN:VEVENT
UID:ea204827-50d8-4261-b9ad-e7d5d87b7cf7
DTSTAMP:20260421T112928Z
DESCRIPTION:In this access to capital workshop\, you will learn about diffe
 rent loan options and how to evaluate them to find the best fit for your b
 usiness. Additionally\, you will gain insights into preparing a loan appli
 cation package to approach lenders with purpose and confidence.\n\nRegiste
 r Now: https://us02web.zoom.us/webinar/register/WN_Q4mgR-F9RcylwhTNwemzbg#
 /registration
DTSTART;TZID=America/New_York:20240926T130000
DTEND;TZID=America/New_York:20240926T140000
LOCATION:
SUMMARY:Borrowing with Purpose and Confidence
END:VEVENT
END:VCALENDAR
